BEGIN:VCALENDAR
PRODID:-//eluceo/ical//2.0/EN
VERSION:2.0
CALSCALE:GREGORIAN
BEGIN:VEVENT
UID:2a2bcd8196211be73f87a5911490978a
DTSTAMP:20260422T115658Z
SUMMARY:Så jobbar vi på 1177
DESCRIPTION:Talare: Kristina Engström
URL:https://goteborg-alvstranden.rotaryklubb.org/sv/agenda/show/218264
DTSTART;TZID=Europe/Zurich:20260604T120000
DTEND;TZID=Europe/Zurich:20260604T130000
LOCATION:Seglarkrogen i Långedrag\, Talattagatan 12\, 426 76 Västra Fröl
 unda\, Sverige
CATEGORIES:Rotary
END:VEVENT
BEGIN:VTIMEZONE
TZID:Europe/Zurich
BEGIN:DAYLIGHT
DTSTART:20260604T120000
TZNAME:CEST
TZOFFSETTO:+0200
TZOFFSETFROM:+0200
END:DAYLIGHT
END:VTIMEZONE
END:VCALENDAR
