BEGIN:VCALENDAR
PRODID:-//eluceo/ical//2.0/EN
VERSION:2.0
CALSCALE:GREGORIAN
BEGIN:VEVENT
UID:5453f911cdd383fb74f02f7b1be21b8e
DTSTAMP:20260421T112226Z
SUMMARY:Solrosens verksamhet
DESCRIPTION:Talare: Joachim Lundell från Räddningsmissionen
URL:https://goteborg-alvstranden.rotaryklubb.org/sv/agenda/show/217969
DTSTART;TZID=Europe/Zurich:20260409T120000
DTEND;TZID=Europe/Zurich:20260409T130000
LOCATION:Seglarkrogen i Långedrag\, Talattagatan 12\, 426 76 Västra Fröl
 unda\, Sverige
CATEGORIES:Rotary
END:VEVENT
BEGIN:VTIMEZONE
TZID:Europe/Zurich
BEGIN:DAYLIGHT
DTSTART:20260409T120000
TZNAME:CEST
TZOFFSETTO:+0200
TZOFFSETFROM:+0200
END:DAYLIGHT
END:VTIMEZONE
END:VCALENDAR
