BEGIN:VCALENDAR
PRODID:-//eluceo/ical//2.0/EN
VERSION:2.0
CALSCALE:GREGORIAN
BEGIN:VEVENT
UID:2799feaf8f2087f94402ac5784eb396e
DTSTAMP:20260422T153339Z
SUMMARY:Vad har vårt bidrag till Reningsborg givet för resultat?
DESCRIPTION:Talare: Mikael Albertsson och Elisabeth Valinder
URL:https://goteborg-alvstranden.rotaryklubb.org/sv/agenda/show/207794
DTSTART;TZID=Europe/Zurich:20240912T120000
DTEND;TZID=Europe/Zurich:20240912T130000
LOCATION:Seglarkrogen i Långedrag\, Talattagatan 12\, 426 76 Västra Fröl
 unda\, Sverige
CATEGORIES:Rotary
END:VEVENT
BEGIN:VTIMEZONE
TZID:Europe/Zurich
BEGIN:DAYLIGHT
DTSTART:20240912T120000
TZNAME:CEST
TZOFFSETTO:+0200
TZOFFSETFROM:+0200
END:DAYLIGHT
END:VTIMEZONE
END:VCALENDAR
