BEGIN:VCALENDAR
PRODID:-//eluceo/ical//2.0/EN
VERSION:2.0
CALSCALE:GREGORIAN
BEGIN:VEVENT
UID:835ae506e0d005bb66c2487f586adce0
DTSTAMP:20260420T132030Z
SUMMARY:Göteborska kuriositeter
DESCRIPTION:Talare: Leif Fredén
URL:https://goteborg-alvstranden.rotaryklubb.org/sv/agenda/show/207792
DTSTART;TZID=Europe/Zurich:20240829T120000
DTEND;TZID=Europe/Zurich:20240829T130000
LOCATION:Seglarkrogen i Långedrag\, Talattagatan 12\, 426 76 Västra Fröl
 unda\, Sverige
CATEGORIES:Rotary
END:VEVENT
BEGIN:VTIMEZONE
TZID:Europe/Zurich
BEGIN:DAYLIGHT
DTSTART:20240829T120000
TZNAME:CEST
TZOFFSETTO:+0200
TZOFFSETFROM:+0200
END:DAYLIGHT
END:VTIMEZONE
END:VCALENDAR
