BEGIN:VCALENDAR
PRODID:-//eluceo/ical//2.0/EN
VERSION:2.0
CALSCALE:GREGORIAN
BEGIN:VEVENT
UID:3eb14096734f576150a581a3b7d8d130
DTSTAMP:20260421T111850Z
SUMMARY:Spännande och god kväll med Kristian Wedel på Marieholm
DESCRIPTION:Website: https://ssmarieholm.se\nSpeaker(s): Kristian Wedel 
URL:https://goteborg-alvstranden.rotaryklubb.org/en/agenda/show/216871
DTSTART;TZID=Europe/Zurich:20260226T180000
DTEND;TZID=Europe/Zurich:20260226T210000
LOCATION:S/S Marieholm\, Packhusgatan 6\, Göteborg
CATEGORIES:Rotary
END:VEVENT
BEGIN:VTIMEZONE
TZID:Europe/Zurich
BEGIN:STANDARD
DTSTART:20260226T180000
TZNAME:CET
TZOFFSETTO:+0100
TZOFFSETFROM:+0100
END:STANDARD
END:VTIMEZONE
END:VCALENDAR
