BEGIN:VCALENDAR
PRODID:-//eluceo/ical//2.0/EN
VERSION:2.0
CALSCALE:GREGORIAN
BEGIN:VEVENT
UID:d5799e1cc7364ebbfc2ef08515e1349f
DTSTAMP:20260420T113127Z
SUMMARY:Svensk Ledarskapskultur
DESCRIPTION:Speaker(s): Jan Marklund
URL:https://goteborg-alvstranden.rotaryklubb.org/en/agenda/show/216689
DTSTART;TZID=Europe/Zurich:20260312T120000
DTEND;TZID=Europe/Zurich:20260312T130000
LOCATION:Seglarkrogen i Långedrag\, GKSS\, Talattagatan 12
CATEGORIES:Rotary
END:VEVENT
BEGIN:VTIMEZONE
TZID:Europe/Zurich
BEGIN:STANDARD
DTSTART:20260312T120000
TZNAME:CET
TZOFFSETTO:+0100
TZOFFSETFROM:+0100
END:STANDARD
END:VTIMEZONE
END:VCALENDAR
