BEGIN:VCALENDAR
PRODID:-//eluceo/ical//2.0/EN
VERSION:2.0
CALSCALE:GREGORIAN
BEGIN:VEVENT
UID:fe2f63bdf64b8ec2f1df794c82a2711e
DTSTAMP:20260420T103630Z
SUMMARY:Visioner för framtiden
DESCRIPTION:Speaker(s): Mathias Ram\, ny klubbdirektör på GKSS
URL:https://goteborg-alvstranden.rotaryklubb.org/en/agenda/show/216216
DTSTART;TZID=Europe/Zurich:20260305T120000
DTEND;TZID=Europe/Zurich:20260305T130000
LOCATION:Seglarkrogen i Långedrag\, Talattagatan 12\, 426 76 Västra Fröl
 unda\, Sverige
CATEGORIES:Rotary
END:VEVENT
BEGIN:VTIMEZONE
TZID:Europe/Zurich
BEGIN:STANDARD
DTSTART:20260305T120000
TZNAME:CET
TZOFFSETTO:+0100
TZOFFSETFROM:+0100
END:STANDARD
END:VTIMEZONE
END:VCALENDAR
