BEGIN:VCALENDAR
PRODID:-//eluceo/ical//2.0/EN
VERSION:2.0
CALSCALE:GREGORIAN
BEGIN:VEVENT
UID:41623000f5888cd35773ad2d422aa15e
DTSTAMP:20260419T175248Z
SUMMARY:Seglats Färöarna
DESCRIPTION:Speaker(s): Hans Lindh
URL:https://goteborg-alvstranden.rotaryklubb.org/en/agenda/show/216215
DTSTART;TZID=Europe/Zurich:20260205T120000
DTEND;TZID=Europe/Zurich:20260205T130000
LOCATION:Seglarkrogen i Långedrag\, Talattagatan 12\, 426 76 Västra Fröl
 unda\, Sverige
CATEGORIES:Rotary
END:VEVENT
BEGIN:VTIMEZONE
TZID:Europe/Zurich
BEGIN:STANDARD
DTSTART:20260205T120000
TZNAME:CET
TZOFFSETTO:+0100
TZOFFSETFROM:+0100
END:STANDARD
END:VTIMEZONE
END:VCALENDAR
