BEGIN:VCALENDAR
PRODID:-//eluceo/ical//2.0/EN
VERSION:2.0
CALSCALE:GREGORIAN
BEGIN:VEVENT
UID:3a430b76d587f9ca54f38d709270c7ea
DTSTAMP:20260419T174603Z
SUMMARY:Libertyfartygen och u-båtskriget
DESCRIPTION:Speaker(s): Lars Zimmermann
URL:https://goteborg-alvstranden.rotaryklubb.org/en/agenda/show/215413
DTSTART;TZID=Europe/Zurich:20251106T120000
DTEND;TZID=Europe/Zurich:20251106T130000
LOCATION:Seglarkrogen i Långedrag\, Talattagatan 12\, 426 76 Västra Fröl
 unda\, Sverige
CATEGORIES:Rotary
END:VEVENT
BEGIN:VTIMEZONE
TZID:Europe/Zurich
BEGIN:STANDARD
DTSTART:20251106T120000
TZNAME:CET
TZOFFSETTO:+0100
TZOFFSETFROM:+0100
END:STANDARD
END:VTIMEZONE
END:VCALENDAR
