BEGIN:VCALENDAR
PRODID:-//eluceo/ical//2.0/EN
VERSION:2.0
CALSCALE:GREGORIAN
BEGIN:VEVENT
UID:8c3c5cf0d4808f144a660457e97edce0
DTSTAMP:20260419T174824Z
SUMMARY:Green City Farming
DESCRIPTION:Speaker(s): Robert Carlsson
URL:https://goteborg-alvstranden.rotaryklubb.org/en/agenda/show/215091
DTSTART;TZID=Europe/Zurich:20251009T120000
DTEND;TZID=Europe/Zurich:20251009T130000
LOCATION:Seglarkrogen i Långedrag\, Talattagatan 12\, 426 76 Västra Fröl
 unda\, Sverige
CATEGORIES:Rotary
END:VEVENT
BEGIN:VTIMEZONE
TZID:Europe/Zurich
BEGIN:DAYLIGHT
DTSTART:20251009T120000
TZNAME:CEST
TZOFFSETTO:+0200
TZOFFSETFROM:+0200
END:DAYLIGHT
END:VTIMEZONE
END:VCALENDAR
