BEGIN:VCALENDAR
PRODID:-//eluceo/ical//2.0/EN
VERSION:2.0
CALSCALE:GREGORIAN
BEGIN:VEVENT
UID:ae5ccb0e2f1de601d90acb635cb88813
DTSTAMP:20260419T175002Z
SUMMARY:Trafiken idag
DESCRIPTION:Speaker(s): Thore Hansson\, trafikexpert
URL:https://goteborg-alvstranden.rotaryklubb.org/en/agenda/show/213952
DTSTART;TZID=Europe/Zurich:20250904T120000
DTEND;TZID=Europe/Zurich:20250904T130000
LOCATION:Seglarkrogen i Långedrag\, Talattagatan 12\, 426 76 Västra Fröl
 unda\, Sverige
CATEGORIES:Rotary
END:VEVENT
BEGIN:VTIMEZONE
TZID:Europe/Zurich
BEGIN:DAYLIGHT
DTSTART:20250904T120000
TZNAME:CEST
TZOFFSETTO:+0200
TZOFFSETFROM:+0200
END:DAYLIGHT
END:VTIMEZONE
END:VCALENDAR
