BEGIN:VCALENDAR
PRODID:-//eluceo/ical//2.0/EN
VERSION:2.0
CALSCALE:GREGORIAN
BEGIN:VEVENT
UID:272e71209388f6889ea69bc8dd5cfd2e
DTSTAMP:20260421T111505Z
SUMMARY:10-dans  Karaktär och historia
DESCRIPTION:Speaker(s): Bert Olsson
URL:https://goteborg-alvstranden.rotaryklubb.org/en/agenda/show/213950
DTSTART;TZID=Europe/Zurich:20250828T120000
DTEND;TZID=Europe/Zurich:20250828T130000
LOCATION:Seglarkrogen i Långedrag\, Talattagatan 12\, 426 76 Västra Fröl
 unda\, Sverige
CATEGORIES:Rotary
END:VEVENT
BEGIN:VTIMEZONE
TZID:Europe/Zurich
BEGIN:DAYLIGHT
DTSTART:20250828T120000
TZNAME:CEST
TZOFFSETTO:+0200
TZOFFSETFROM:+0200
END:DAYLIGHT
END:VTIMEZONE
END:VCALENDAR
