BEGIN:VCALENDAR
PRODID:-//eluceo/ical//2.0/EN
VERSION:2.0
CALSCALE:GREGORIAN
BEGIN:VEVENT
UID:ef8f717f46c515032a54234eb1f0e01d
DTSTAMP:20260420T030619Z
SUMMARY:Historien om Arla
DESCRIPTION:Speaker(s): Harriet Williams
URL:https://goteborg-alvstranden.rotaryklubb.org/en/agenda/show/210799
DTSTART;TZID=Europe/Zurich:20250410T120000
DTEND;TZID=Europe/Zurich:20250410T130000
LOCATION:Seglarkrogen i Långedrag\, Talattagatan 12\, 426 76 Västra Fröl
 unda\, Sverige
CATEGORIES:Rotary
END:VEVENT
BEGIN:VTIMEZONE
TZID:Europe/Zurich
BEGIN:DAYLIGHT
DTSTART:20250410T120000
TZNAME:CEST
TZOFFSETTO:+0200
TZOFFSETFROM:+0200
END:DAYLIGHT
END:VTIMEZONE
END:VCALENDAR
