BEGIN:VCALENDAR
PRODID:-//eluceo/ical//2.0/EN
VERSION:2.0
CALSCALE:GREGORIAN
BEGIN:VEVENT
UID:6715806ecd68d1d3f09f68cc30a0d6ea
DTSTAMP:20260419T180855Z
SUMMARY:Presidentbyte
DESCRIPTION:
URL:https://goteborg-alvstranden.rotaryklubb.org/en/agenda/show/209878
DTSTART;TZID=Europe/Zurich:20250612T120000
DTEND;TZID=Europe/Zurich:20250612T130000
LOCATION:Seglarkrogen i Långedrag\, Talattagatan 12\, 426 76 Västra Fröl
 unda\, Sverige
CATEGORIES:Rotary
END:VEVENT
BEGIN:VTIMEZONE
TZID:Europe/Zurich
BEGIN:DAYLIGHT
DTSTART:20250612T120000
TZNAME:CEST
TZOFFSETTO:+0200
TZOFFSETFROM:+0200
END:DAYLIGHT
END:VTIMEZONE
END:VCALENDAR
